Workbook

Sheet Salários Base
A1: DNIT | F1: k | G1: ='Anexo B - k'!F51 -> 3.0562972
F2: Redutor | G2: 1
A3: Função | B3: Tarifa Básica | C3: Salário Base | D3: Salário Base
B4: H | C4: Hora | D4: Mensal
A5: Coordenador Geral | B5: 256.6964 | C5: =B5/$G$1 -> 83.989345 | D5: =C5*176 -> 14782.125 | G5: 291.68 | H5: =G5/$G$1 -> 95.435745 | J5: 14110.21 | K5: =J5/168*'Anexo B - k'!$F$51 -> 256.6964
A6: Consultor | B6: 295.38621 | C6: =G6/$G$1 -> 94.778087 | D6: =C6*176 -> 16680.943 | G6: 289.67 | H6: =G6/$G$1 -> 94.778087 | J6: 16236.93 | K6: =J6/168*'Anexo B - k'!$F$51 -> 295.38621
A7: Profissional - Nível Superior Sênior | B7: 202.2672 | C7: =G7/$G$1 -> 80.626976 | D7: =C7*176 -> 14190.348 | G7: 246.42 | H7: =G7/$G$1 -> 80.626976 | J7: 11118.32 | K7: =J7/168*'Anexo B - k'!$F$51 -> 202.2672
A8: Profissional - Nível Superior Pleno | B8: 158.23851 | C8: =G8/$G$1 -> 54.29773 | D8: =C8*176 -> 9556.4005 | G8: 165.95 | H8: =G8/$G$1 -> 54.29773 | J8: 8698.13 | K8: =J8/168*'Anexo B - k'!$F$51 -> 158.23851
A9: Programador - Pleno | B9: 158.23851 | C9: =G9/$G$1 -> 37.614143 | D9: =C9*176 -> 6620.0892 | G9: 114.96 | H9: =G9/$G$1 -> 37.614143 | J9: =J8 -> 8698.13 | K9: =J9/168*'Anexo B - k'!$F$51 -> 158.23851
A10: Técnico Especializado - Sênior | B10: 69.941724 | C10: =G10/$G$1 -> 24.686735 | D10: =C10*176 -> 4344.8654 | G10: 75.45 | H10: =G10/$G$1 -> 24.686735 | J10: 3844.59 | K10: =J10/168*'Anexo B - k'!$F$51 -> 69.941724
A11: Técnico Especializado - Pleno | B11: 52.893589 | C11: =G11/$G$1 -> 21.535864 | D11: =C11*176 -> 3790.312 | G11: 65.82 | H11: =G11/$G$1 -> 21.535864 | J11: 2907.48 | K11: =J11/168*'Anexo B - k'!$F$51 -> 52.893589
A12: Técnico Especializado - Júnior | B12: 42.454333 | J12: 2333.65 | K12: =J12/168*'Anexo B - k'!$F$51 -> 42.454333
A13: Secretária | B13: 44.120924 | C13: =G13/$G$1 -> 23.299436 | D13: =C13*176 -> 4100.7007 | G13: 71.21 | H13: =G13/$G$1 -> 23.299436 | J13: 2425.26 | K13: =J13/168*'Anexo B - k'!$F$51 -> 44.120924
A14: Encarregado Administrativo | B14: 73.472111 | C14: =G14/$G$1 -> 17.913834 | D14: =C14*176 -> 3152.8348 | G14: 54.75 | H14: =G14/$G$1 -> 17.913834 | J14: 4038.65 | K14: =J14/168*'Anexo B - k'!$F$51 -> 73.472111
A15: Servente/contínuo | B15: 24.850607 | C15: =G15/$G$1 -> 10.879178 | D15: =C15*176 -> 1914.7353 | G15: 33.25 | H15: =G15/$G$1 -> 10.879178 | J15: 1366 | K15: =J15/168*'Anexo B - k'!$F$51 -> 24.850607
A16: vigia | B16: 25.327244 | J16: 1392.2 | K16: =J16/168*'Anexo B - k'!$F$51 -> 25.327244

Sheet Anexo A Comp. Global
B2: DNIT - Data base: Ago/2013
B3: Funções | C3: Salário/mês | D3: Qt/mês | E3: Meses | F3: Valor Total
B5: Equipe Técnica e Administrativa
B6: Coordenador Geral | C6: 14541.91 | D6: 0.3 | E6: 24 | F6: =C6*D6*E6 -> 104701.75
B7: Arquiteto/urbanista pleno | C7: 8964.24 | D7: 0.5 | E7: =$E$6 -> 24 | F7: =C7*D7*E7 -> 107570.88
B8: Engenheiro civil pleno | C8: 8964.24 | D8: 0.5 | E8: =$E$6 -> 24 | F8: =C8*D8*E8 -> 107570.88
B9: Engenherio ambiental pleno | C9: 8964.24 | D9: 0.1 | E9: =$E$6 -> 24 | F9: =C9*D9*E9 -> 21514.176
B10: Geólogo pleno | C10: 8964.24 | D10: 0.3 | E10: =$E$6 -> 24 | F10: =C10*D10*E10 -> 64542.528
B11: Engenheiro florestal / biólogo pleno | C11: 8964.24 | D11: 0.3 | E11: =$E$6 -> 24 | F11: =C11*D11*E11 -> 64542.528
B12: Profissional da área de arqueologia | C12: 8964.24 | D12: 0.3 | E12: =$E$6 -> 24 | F12: =C12*D12*E12 -> 64542.528
B13: Técnico de nível médio em construção civil | C13: 3962.22 | D13: 1 | E13: =$E$6 -> 24 | F13: =C13*D13*E13 -> 95093.28
B14: ='Salários Base'!A15 -> Servente/contínuo | C14: 1407.79 | D14: 0.7 | E14: =$E$6 -> 24 | F14: =C14*D14*E14 -> 23650.872
B15: Secretária | C15: 2499.46 | D15: 1 | E15: =$E$6 -> 24 | F15: =C15*D15*E15 -> 59987.04
B16: Vigias | C16: 1434.79 | D16: 2 | E16: 24 | F16: =C16*D16*E16 -> 68869.92
F17: =SUM(F6:F16) -> 782586.38
B19: Encargos Sociais | C19: 0.8404 | F19: =F17*C19 -> 657685.6
F20: =SUM(F19:F19) -> 657685.6
B22: Custos Administrativos | C22: 0.3 | F22: =F17*C22 -> 234775.92
B24: Despesas Gerais
B25: Locação de Container | C25: 600 | D25: 2 | E25: 24 | F25: =C25*D25*E25 -> 28800
B26: Locação de veículo sedan com combustível | C26: 2659.21 | D26: 1 | E26: 24 | F26: =C26*D26*E26 -> 63821.04
B27: Mobiliário | C27: 642.03 | D27: 1 | E27: 24 | F27: =C27*D27*E27 -> 15408.72
F29: =SUM(F25:F28) -> 108029.76
B31: SOMA | F31: =SUM(F17,F20,F22,F29) -> 1783077.7
B33: Remuneração da empresa | C33: 0.12 | F33: =C33*F31 -> 213969.32
B35: Despesas fiscais | C35: 0.1662 | F35: =SUM(F31,F33)*C35 -> 331909.21
B37: TOTAL | F37: =SUM(F31,F33,F35) -> 2328956.2

Sheet Anexo B - k
A1: Anexo B - Demonstrativo da Composição do Fator "k"
A3: Demonstrativo do Fator "k"
A5: A - Encargos Sociais | E5: k1= | F5: =F7 -> 98.17
A7: Grupo A | B7: 1 | C7: INSS | D7: 20 | F7: =SUM(E7:E21) -> 98.17
B8: 2 | C8: SESC | D8: 1.5
B9: 3 | C9: SENAC | D9: 1
B10: 4 | C10: INCRA | D10: 0.2
B11: 5 | C11: Salário Educação | D11: 2.5
B12: 6 | C12: FGTS | D12: 8
B13: 7 | C13: Seguro de Acidentes / INSS (7112-0/00) | D13: 3
B14: 8 | C14: SEBRAE | D14: 0.6 | E14: =SUM(D7:D14) -> 36.8
A15: Grupo B | B15: 9 | C15: Férias e Feriados | D15: 21.49
B16: 10 | C16: Auxílio Doença | D16: 0.83
B17: 11 | C17: Licença Paternidade | D17: 0.36
B18: 12 | C18: 13º Salário | D18: 11.08 | E18: =SUM(D15:D18) -> 33.76
A19: Grupo C | B19: 13 | C19: Aviso Prévio Indenizado | D19: 13.75
B20: 14 | C20: Indenizações | D20: 2.11 | E20: =SUM(D19:D20) -> 15.86
A21: Grupo D | B21: 15 | C21: Incidência sobre o Grupo A e B | D21: 11.75 | E21: =D21 -> 11.75
A23: B - Administração (Despesas Indiretas) | E23: k2= | F23: =F25 -> 22.82
A25: Grupo A | B25: 16 | C25: Direção, Administração Central, Seleção, Treinamento e Manutenção de Pessoal | F25: =SUM(D25:D31) -> 22.82
D26: 14.32
A27: Grupo B | B27: 17 | C27: Despesas Gerais de Escritório | D27: 4
A28: Grupo C | B28: 18 | C28: Despesas Gerais de Escritório, Equipamentos de Informática, Comunicação e Veículos Administrativos
D30: 3.5
A31: Grupo D | B31: 19 | C31: Outras Despesas | D31: 1
A33: C - Tributos | E33: k3= | F33: =F35 -> 12.4
B35: 20 | C35: ISS | D35: 5 | F35: =SUM(D35:D37) -> 12.4
B36: 21 | C36: PIS | D36: 1.32
B37: 22 | C37: COFINS | D37: 6.08
A39: D - Taxa de Lucro | E39: k4= | F39: =D40 -> 10
B40: 23 | C40: Lucro | D40: 10 | F40: =D40 -> 10
A42: RESUMO
A44: Cálculo do Fator "k" | D44: k= (1+k1) x (1+k2) x (1+k4) / (1-k3)
C46: k1 (Encargos Sociais) | F46: =F5 -> 98.17
C47: k2 (Administração e Despesas Indiretas) | F47: =F23 -> 22.82
C48: k3 (Tributos) | F48: =F33 -> 12.4
C49: k4 (Taxa de Lucro) | F49: =F39 -> 10
E51: Fator "k"= | F51: =(1+F46/100)*(1+F47/100)*(1+F49/100)/(1-F48/100) -> 3.0562972

Sheet Plan3
G6: NP | H6: Pmáx | I6: Pmin | J6: VP
G7: =(100*H7-90*I7-10*J7)/(H7-I7) -> 90 | H7: 100 | I7: 70 | J7: 100 | L7: 1 | M7: 1
G8: =(100*H8-90*I8-10*J8)/(H8-I8) -> 93.333333 | H8: 100 | I8: 70 | J8: 90 | L8: =J7/J8 -> 1.1111111 | M8: =G7/G8 -> 0.96428571
G9: =(100*H9-90*I9-10*J9)/(H9-I9) -> 96.666667 | H9: 100 | I9: 70 | J9: 80 | L9: =J7/J9 -> 1.25 | M9: =G7/G9 -> 0.93103448
G10: =(100*H10-90*I10-10*J10)/(H10-I10) -> 96.666667 | H10: 100 | I10: 70 | J10: 80 | K10: 100 | L10: =J7/J10 -> 1.25 | M10: =G7/G10 -> 0.93103448
G11: =(100*H11-90*I11-10*J11)/(H11-I11) -> 96.666667 | H11: 100 | I11: 70 | J11: 80

Sheet SINAPI
A2: PLANILHA ORÇAMENTÁRIA
A3: Funções | B3: hora | C3: Qt/mês | D3: Meses | E3: Valor Total
A5: Equipe Técnica e Administrativa
A6: Coordenador Geral | B6: 188.79 | C6: 52.8 | D6: 24 | E6: =B6*C6*D6 -> 239234.69
A7: Arquiteto/urbanista pleno | B7: 110.86 | C7: 52.8 | D7: =$D$6 -> 24 | E7: =B7*C7*D7 -> 140481.79
A8: Engenheiro civil pleno | B8: 110.86 | C8: 52.8 | D8: =$D$6 -> 24 | E8: =B8*C8*D8 -> 140481.79
A9: Engenherio ambiental pleno | B9: 110.86 | C9: 88 | D9: =$D$6 -> 24 | E9: =B9*C9*D9 -> 234136.32
A10: Geólogo pleno | B10: 110.86 | C10: 52.8 | D10: =$D$6 -> 24 | E10: =B10*C10*D10 -> 140481.79
A11: Engenheiro florestal / biólogo pleno | B11: 110.86 | C11: 52.8 | D11: =$D$6 -> 24 | E11: =B11*C11*D11 -> 140481.79
A12: Profissional da área de arqueologia | B12: 110.86 | C12: 52.8 | D12: =$D$6 -> 24 | E12: =B12*C12*D12 -> 140481.79
A13: Técnico de nível médio em construção civil | B13: 43.86 | C13: 176 | D13: =$D$6 -> 24 | E13: =B13*C13*D13 -> 185264.64
A14: ='Salários Base'!A15 -> Servente/contínuo | B14: 7.49 | C14: 123.2 | D14: =$D$6 -> 24 | E14: =B14*C14*D14 -> 22146.432
A15: Secretária | B15: 13.67 | C15: 176 | D15: =$D$6 -> 24 | E15: =B15*C15*D15 -> 57742.08
A16: Vigias | B16: 12.49 | C16: 352 | D16: 24 | E16: =B16*C16*D16 -> 105515.52
E17: =SUM(E6:E16) -> 1546448.6
A19: Despesas Gerais
A20: Locação de Container | B20: 600 | C20: 2 | D20: 24 | E20: =B20*C20*D20 -> 28800
A21: Locação de veículo sedan com combustível | B21: 2659.21 | C21: 1 | D21: 24 | E21: =B21*C21*D21 -> 63821.04
A22: Imagens de satélite | B22: 1250 | C22: 6 | D22: - | E22: =B22*C22 -> 7500
A23: Mobiliário | B23: 642.03 | C23: 1 | D23: 24 | E23: =B23*C23*D23 -> 15408.72
E25: =SUM(E20:E24) -> 115529.76
A27: SOMA | E27: =SUM(E17,E25) -> 1661978.4
A29: BDI | B29: 0.226 | E29: =B29*E27 -> 375607.12
A31: TOTAL | E31: =SUM(E27,E29) -> 2037585.5
A33: Referências utilizadas:
A34: SINAPI - Sistema Nacional de Pesquisa de Custos e Índices da Construção Civil - CEF (set/2013)
A35: Encargos sociais embutidos no valor da hora técnica
A36: BDI - Acórdão 325/2007 - TCU (valor médio proposto_item 11)

Sheet Plan1
A1: CONSULTOR ESPECIAL
A2: 16262.95
A3: COORDENADOR
A4: 14132.83
A5: ENGENHEIRO/PROFISSIONAL SÊNIOR
A6: 11136.14
A7: ENGENHEIRO/PROFISSIONAL PLENO
A8: 8712.07
A9: ENGENHEIRO/PROFISSIONAL JÚNIOR
A10: 7167.49
A11: ENGENHEIRO/PROFISSIONAL AUXILIAR
A12: 5598
A13: TÉCNICO ESPECIAL
A14: 5048.7
A15: TÉCNICO SÊNIOR
A16: 3850.76
A17: TÉCNICO PLENO
A18: 2912.14
A19: TÉCNICO JÚNIOR
A20: 2337.39
A21: TÉCNICO AUXILIAR
A22: 1746.17
A23: CHEFE DE ESCRITÓRIO
A24: 4038.65
A25: 4045.12
A26: SECRETÁRIA
A27: 2429.14
A28: AUXILIAR DE ESCRITÓRIO/DE CAMPO/MOTORISTA
A29: 1569.43
A30: SERVENTES/CONTÍNUOS
A31: 1368.19
A32: VIGIAS
A33: 1394.43
A34: SEDAN - 71 A 115 CV
A35: Mês
A36: 2278.95
A37: 2379.74
A38: 2384.31
A39: 2498.59
A40: 2493.38
...
